BEGIN:VCALENDAR
VERSION:2.0
PRODID:-//Sabre//Sabre VObject 4.5.8//EN
CALSCALE:GREGORIAN
BEGIN:VEVENT
UID:sabre-vobject-0cd7475c-43c9-497b-8310-72bf66a605ed
DTSTAMP:20260422T211829Z
SUMMARY:Ewige Anbetung\, 21.45 Uhr Kirchliches Nachtgebet - Einsetzung um 2
 2 Uhr
DESCRIPTION:https://www2.bistum-augsburg.de/gottesdienste/ewige-anbetung-21
 -45-uhr-kirchliches-nachtgebet-einsetzung-um-22-uhr_id1730112
DTSTART;TZID=Europe/Berlin:20260428T100000
DURATION:PT30M
LOCATION:St. Josef der Arbeiter
END:VEVENT
END:VCALENDAR
