BEGIN:VCALENDAR
VERSION:2.0
PRODID:-//Sabre//Sabre VObject 4.5.8//EN
CALSCALE:GREGORIAN
BEGIN:VEVENT
UID:sabre-vobject-e1e94c97-c0c9-4579-adb6-0a90922f3748
DTSTAMP:20260422T175508Z
SUMMARY:Messe\, anschl. Anbetung bis 12 Uhr
DESCRIPTION:https://www2.bistum-augsburg.de/gottesdienste/messe-anschl-anbe
 tung-bis-12-uhr_id1730117
DTSTART;TZID=Europe/Berlin:20260428T100000
DURATION:PT30M
LOCATION:St. Josef\, Klosterplatz 2\, 87509 Immenstadt
END:VEVENT
END:VCALENDAR
