BEGIN:VCALENDAR
VERSION:2.0
PRODID:-//Sabre//Sabre VObject 4.5.8//EN
CALSCALE:GREGORIAN
BEGIN:VEVENT
UID:sabre-vobject-d376b98e-b254-496c-8de2-aafe1da38597
DTSTAMP:20260424T121340Z
SUMMARY:Vorabendmesse zum Sonntag als Floriansmesse v. Unterkreis\nanschl. 
 Einweihung Feuerwehranhänger
DESCRIPTION:https://www2.bistum-augsburg.de/gottesdienste/vorabendmesse-zum
 -sonntag-als-floriansmesse-v-unterkreis-anschl-einweihung-feuerwehranhaeng
 er_id1730129
DTSTART;TZID=Europe/Berlin:20260509T191500
DURATION:PT30M
LOCATION:St. Joseph
END:VEVENT
END:VCALENDAR
