BEGIN:VCALENDAR
VERSION:2.0
PRODID:-//Sabre//Sabre VObject 4.5.8//EN
CALSCALE:GREGORIAN
BEGIN:VEVENT
UID:sabre-vobject-00c2ca06-cead-43d8-a70d-3e736f463dd6
DTSTAMP:20260423T190200Z
SUMMARY:Laudes
DESCRIPTION:https://www2.bistum-augsburg.de/gottesdienste/laudes_id1730133
DTSTART;TZID=Europe/Berlin:20260509T090000
DURATION:PT30M
LOCATION:St. Josef\, Klosterplatz 2\, 87509 Immenstadt
END:VEVENT
END:VCALENDAR
