BEGIN:VCALENDAR
VERSION:2.0
PRODID:-//Sabre//Sabre VObject 4.5.8//EN
CALSCALE:GREGORIAN
BEGIN:VEVENT
UID:sabre-vobject-fa19976d-6f6b-4696-87ce-1cf178ccf2dc
DTSTAMP:20260424T101352Z
SUMMARY:Rosenkranz
DESCRIPTION:https://www2.bistum-augsburg.de/gottesdienste/rosenkranz_id1730
 134
DTSTART;TZID=Europe/Berlin:20260520T182500
DURATION:PT30M
LOCATION:St. Margareta
END:VEVENT
END:VCALENDAR
