BEGIN:VCALENDAR
VERSION:2.0
PRODID:-//Sabre//Sabre VObject 4.5.8//EN
CALSCALE:GREGORIAN
BEGIN:VEVENT
UID:sabre-vobject-63840e82-87a6-4028-ac6c-0fce5fa2cc1e
DTSTAMP:20260425T114425Z
SUMMARY:Pfarrgemeinderatssitzung i. Pfarrheim
DESCRIPTION:https://www2.bistum-augsburg.de/gottesdienste/pfarrgemeinderats
 sitzung-i-pfarrheim_id1730136
DTSTART;TZID=Europe/Berlin:20260521T193000
DURATION:PT30M
LOCATION:St. Margareta
END:VEVENT
END:VCALENDAR
