BEGIN:VCALENDAR
VERSION:2.0
PRODID:-//Sabre//Sabre VObject 4.5.8//EN
CALSCALE:GREGORIAN
BEGIN:VEVENT
UID:sabre-vobject-0046d668-e537-47b9-abb6-611e4d8728df
DTSTAMP:20260423T155938Z
SUMMARY:Rosenkranz in der Grotte
DESCRIPTION:https://www2.bistum-augsburg.de/gottesdienste/rosenkranz-in-der
 -grotte_id1730140
DTSTART;TZID=Europe/Berlin:20260502T170000
DURATION:PT30M
LOCATION:St. Georg\, Ortsstraße 1\, 87494 Rückholz
END:VEVENT
END:VCALENDAR
