BEGIN:VCALENDAR
VERSION:2.0
PRODID:-//Sabre//Sabre VObject 4.5.8//EN
CALSCALE:GREGORIAN
BEGIN:VEVENT
UID:sabre-vobject-d6c0d9d6-274f-4e68-8ecc-073334bd9b57
DTSTAMP:20260425T214539Z
SUMMARY:lat. hl. Messe (außerord. Form)
DESCRIPTION:https://www2.bistum-augsburg.de/gottesdienste/lat-hl-messe-auss
 erord-form_id1730170
DTSTART;TZID=Europe/Berlin:20260522T183000
DURATION:PT30M
LOCATION:St. Blasius
END:VEVENT
END:VCALENDAR
