BEGIN:VCALENDAR
VERSION:2.0
PRODID:-//Sabre//Sabre VObject 4.5.8//EN
CALSCALE:GREGORIAN
BEGIN:VEVENT
UID:sabre-vobject-11b6ba95-afaa-4ae8-a3a4-96c84ba6f981
DTSTAMP:20260424T095139Z
SUMMARY:Pfarrgottesdienst\nFür die Lebenden und Verstorbenen der Pfarrei
DESCRIPTION:https://www2.bistum-augsburg.de/gottesdienste/pfarrgottesdienst
 -fuer-die-lebenden-und-verstorbenen-der-pfarrei_id1730177
DTSTART;TZID=Europe/Berlin:20260525T093000
DURATION:PT30M
LOCATION:St. Blasius
END:VEVENT
END:VCALENDAR
