BEGIN:VCALENDAR
VERSION:2.0
PRODID:-//Sabre//Sabre VObject 4.5.8//EN
CALSCALE:GREGORIAN
BEGIN:VEVENT
UID:sabre-vobject-773bd008-b8cb-4a29-9023-4abb07861c5c
DTSTAMP:20260424T212533Z
SUMMARY:Bittgang nach Großried - Treffpunkt am Feuerwehrhaus (nur bei sch
 önem Wetter)
DESCRIPTION:https://www2.bistum-augsburg.de/gottesdienste/bittgang-nach-gro
 ssried-treffpunkt-am-feuerwehrhaus-nur-bei-schoenem-wetter_id1730207
DTSTART;TZID=Europe/Berlin:20260511T181500
DURATION:PT30M
LOCATION:Mariä Himmelfahrt
END:VEVENT
END:VCALENDAR
