BEGIN:VCALENDAR
VERSION:2.0
PRODID:-//Sabre//Sabre VObject 4.5.8//EN
CALSCALE:GREGORIAN
BEGIN:VEVENT
UID:sabre-vobject-77b0ce92-3cc0-4cd4-b614-49f14600b7f9
DTSTAMP:20260423T191240Z
SUMMARY:Rosenkranz
DESCRIPTION:https://www2.bistum-augsburg.de/gottesdienste/rosenkranz_id1730
 212
DTSTART;TZID=Europe/Berlin:20260512T092500
DURATION:PT30M
LOCATION:St. Josef\, Klosterplatz 2\, 87509 Immenstadt
END:VEVENT
END:VCALENDAR
