BEGIN:VCALENDAR
VERSION:2.0
PRODID:-//Sabre//Sabre VObject 4.5.8//EN
CALSCALE:GREGORIAN
BEGIN:VEVENT
UID:sabre-vobject-47a0d031-5266-4199-94d0-fc194b72e633
DTSTAMP:20260426T031549Z
SUMMARY:Feierliche Maiandacht (musik.Gest.: Angelika-Dreigsang und die Drei
 saitigen)
DESCRIPTION:https://www2.bistum-augsburg.de/gottesdienste/feierliche-maiand
 acht-musik-gest-angelika-dreigsang-und-die-dreisaitigen_id1730229
DTSTART;TZID=Europe/Berlin:20260503T183000
DURATION:PT30M
LOCATION:St. Ulrich
END:VEVENT
END:VCALENDAR
