BEGIN:VCALENDAR
VERSION:2.0
PRODID:-//Sabre//Sabre VObject 4.5.8//EN
CALSCALE:GREGORIAN
BEGIN:VEVENT
UID:sabre-vobject-e559306b-0dac-4f45-93b1-76ab11d2f21f
DTSTAMP:20260425T032038Z
SUMMARY:Eucharistiefeier in der Unterkirche
DESCRIPTION:https://www2.bistum-augsburg.de/gottesdienste/eucharistiefeier-
 in-der-unterkirche_id1730230
DTSTART;TZID=Europe/Berlin:20260507T183000
DURATION:PT30M
LOCATION:St. Ulrich
END:VEVENT
END:VCALENDAR
