BEGIN:VCALENDAR
VERSION:2.0
PRODID:-//Sabre//Sabre VObject 4.5.8//EN
CALSCALE:GREGORIAN
BEGIN:VEVENT
UID:sabre-vobject-7863535e-4b50-4c24-89f8-08f6b3a0d13e
DTSTAMP:20260425T134920Z
SUMMARY:Maiandacht gest. vom PGR
DESCRIPTION:https://www2.bistum-augsburg.de/gottesdienste/maiandacht-gest-v
 om-pgr_id1730232
DTSTART;TZID=Europe/Berlin:20260510T183000
DURATION:PT30M
LOCATION:St. Ulrich
END:VEVENT
END:VCALENDAR
