BEGIN:VCALENDAR
VERSION:2.0
PRODID:-//Sabre//Sabre VObject 4.5.8//EN
CALSCALE:GREGORIAN
BEGIN:VEVENT
UID:sabre-vobject-2fb900e5-e189-4aae-9881-0a9085d6be27
DTSTAMP:20260426T031755Z
SUMMARY:Vorabendmesse zu Christi Himmelfahrt
DESCRIPTION:https://www2.bistum-augsburg.de/gottesdienste/vorabendmesse-zu-
 christi-himmelfahrt_id1730234
DTSTART;TZID=Europe/Berlin:20260513T183000
DURATION:PT30M
LOCATION:St. Ulrich
END:VEVENT
END:VCALENDAR
