BEGIN:VCALENDAR
VERSION:2.0
PRODID:-//Sabre//Sabre VObject 4.5.8//EN
CALSCALE:GREGORIAN
BEGIN:VEVENT
UID:sabre-vobject-1730c73a-9c23-4c05-bfdd-f03b5a7b76ae
DTSTAMP:20260423T162703Z
SUMMARY:Rosenkranz
DESCRIPTION:https://www2.bistum-augsburg.de/gottesdienste/rosenkranz_id1730
 265
DTSTART;TZID=Europe/Berlin:20260522T082500
DURATION:PT30M
LOCATION:St. Josef\, Klosterplatz 2\, 87509 Immenstadt
END:VEVENT
END:VCALENDAR
