BEGIN:VCALENDAR
VERSION:2.0
PRODID:-//Sabre//Sabre VObject 4.5.8//EN
CALSCALE:GREGORIAN
BEGIN:VEVENT
UID:sabre-vobject-adc39b37-c369-4886-9566-216a444c6392
DTSTAMP:20260425T223329Z
SUMMARY:Kinder beten den Rosenkranz
DESCRIPTION:https://www2.bistum-augsburg.de/gottesdienste/kinder-beten-den-
 rosenkranz_id1730276
DTSTART;TZID=Europe/Berlin:20260506T160000
DURATION:PT30M
LOCATION:Mariä Himmelfahrt
END:VEVENT
END:VCALENDAR
