BEGIN:VCALENDAR
VERSION:2.0
PRODID:-//Sabre//Sabre VObject 4.5.8//EN
CALSCALE:GREGORIAN
BEGIN:VEVENT
UID:sabre-vobject-c2338850-41ac-4710-b911-4b002f52ecb6
DTSTAMP:20260426T015555Z
SUMMARY:gemeinsame Festmesse d. PG
DESCRIPTION:https://www2.bistum-augsburg.de/gottesdienste/gemeinsame-festme
 sse-d-pg_id1730277
DTSTART;TZID=Europe/Berlin:20260501T100000
DURATION:PT30M
LOCATION:Mariä Himmelfahrt
END:VEVENT
END:VCALENDAR
