BEGIN:VCALENDAR
VERSION:2.0
PRODID:-//Sabre//Sabre VObject 4.5.8//EN
CALSCALE:GREGORIAN
BEGIN:VEVENT
UID:sabre-vobject-81186f8a-e2e2-487e-bf24-ebaf26013506
DTSTAMP:20260423T162704Z
SUMMARY:Messe gestaltet von Schola Cantorum
DESCRIPTION:https://www2.bistum-augsburg.de/gottesdienste/messe-gestaltet-v
 on-schola-cantorum_id1730288
DTSTART;TZID=Europe/Berlin:20260523T183000
DURATION:PT30M
LOCATION:St. Josef\, Klosterplatz 2\, 87509 Immenstadt
END:VEVENT
END:VCALENDAR
