BEGIN:VCALENDAR
VERSION:2.0
PRODID:-//Sabre//Sabre VObject 4.5.8//EN
CALSCALE:GREGORIAN
BEGIN:VEVENT
UID:sabre-vobject-42d319c4-3470-4c41-8781-b1cd081ad4cc
DTSTAMP:20260425T035144Z
SUMMARY:Hl. Messe m. Kinderkirche i. d. Sakristei
DESCRIPTION:https://www2.bistum-augsburg.de/gottesdienste/hl-messe-m-kinder
 kirche-i-d-sakristei_id1730301
DTSTART;TZID=Europe/Berlin:20260503T100000
DURATION:PT30M
LOCATION:Mariä Himmelfahrt
END:VEVENT
END:VCALENDAR
