BEGIN:VCALENDAR
VERSION:2.0
PRODID:-//Sabre//Sabre VObject 4.5.8//EN
CALSCALE:GREGORIAN
BEGIN:VEVENT
UID:sabre-vobject-f889a6fa-765b-45d2-bf8f-a9aa079ac19f
DTSTAMP:20260425T200655Z
SUMMARY:Taufe
DESCRIPTION:https://www2.bistum-augsburg.de/gottesdienste/taufe_id1730310
DTSTART;TZID=Europe/Berlin:20260510T100000
DURATION:PT30M
LOCATION:Mariä Schmerzen u. St. Ulrich\, Kirchhof 4\, 87764 Maria Steinbac
 h
END:VEVENT
END:VCALENDAR
