BEGIN:VCALENDAR
VERSION:2.0
PRODID:-//Sabre//Sabre VObject 4.5.8//EN
CALSCALE:GREGORIAN
BEGIN:VEVENT
UID:sabre-vobject-4e9e7139-282c-40cd-8b70-abe22a263627
DTSTAMP:20260424T061023Z
SUMMARY:Patrozinium: Hl. Messe\, musik. Gest. Männerchor Bedernau
DESCRIPTION:https://www2.bistum-augsburg.de/gottesdienste/patrozinium-hl-me
 sse-musik-gest-maennerchor-bedernau_id1730312
DTSTART;TZID=Europe/Berlin:20260426T101500
DURATION:PT30M
LOCATION:St. Georg
END:VEVENT
END:VCALENDAR
