BEGIN:VCALENDAR
VERSION:2.0
PRODID:-//Sabre//Sabre VObject 4.5.8//EN
CALSCALE:GREGORIAN
BEGIN:VEVENT
UID:sabre-vobject-07949636-8110-4e5d-9268-5b4d1294c5ce
DTSTAMP:20260423T021607Z
SUMMARY:Hl. Messe
DESCRIPTION:https://www2.bistum-augsburg.de/gottesdienste/hl-messe_id173031
 7
DTSTART;TZID=Europe/Berlin:20260428T073000
DURATION:PT30M
LOCATION:Mariä Opferung\, Baumgärtle 4\, 87739 Baumgärtle
END:VEVENT
END:VCALENDAR
