BEGIN:VCALENDAR
VERSION:2.0
PRODID:-//Sabre//Sabre VObject 4.5.8//EN
CALSCALE:GREGORIAN
BEGIN:VEVENT
UID:sabre-vobject-9f703c2a-52c2-41c7-9cdd-a41e8013db05
DTSTAMP:20260422T175512Z
SUMMARY:Andacht mit Motorradsegnung
DESCRIPTION:https://www2.bistum-augsburg.de/gottesdienste/andacht-mit-motor
 radsegnung_id1730320
DTSTART;TZID=Europe/Berlin:20260426T133000
DURATION:PT30M
LOCATION:Mariä Opferung\, Baumgärtle 4\, 87739 Baumgärtle
END:VEVENT
END:VCALENDAR
