BEGIN:VCALENDAR
VERSION:2.0
PRODID:-//Sabre//Sabre VObject 4.5.8//EN
CALSCALE:GREGORIAN
BEGIN:VEVENT
UID:sabre-vobject-ca7a9050-6d25-484f-a8dd-5e41a4ce6e0d
DTSTAMP:20260424T210359Z
SUMMARY:Rosenkranz
DESCRIPTION:https://www2.bistum-augsburg.de/gottesdienste/rosenkranz_id1730
 322
DTSTART;TZID=Europe/Berlin:20260427T190000
DURATION:PT30M
LOCATION:Mariä Opferung\, Baumgärtle 4\, 87739 Baumgärtle
END:VEVENT
END:VCALENDAR
