BEGIN:VCALENDAR
VERSION:2.0
PRODID:-//Sabre//Sabre VObject 4.5.8//EN
CALSCALE:GREGORIAN
BEGIN:VEVENT
UID:sabre-vobject-23becc16-52de-4d7c-b765-960f74dbc785
DTSTAMP:20260424T043255Z
SUMMARY:Wallfahrtsgottesdienst Anwalting - Gebenhofen
DESCRIPTION:https://www2.bistum-augsburg.de/gottesdienste/wallfahrtsgottesd
 ienst-anwalting-gebenhofen_id1730324
DTSTART;TZID=Europe/Berlin:20260516T090000
DURATION:PT30M
LOCATION:St. Leonhard
END:VEVENT
END:VCALENDAR
