BEGIN:VCALENDAR
VERSION:2.0
PRODID:-//Sabre//Sabre VObject 4.5.8//EN
CALSCALE:GREGORIAN
BEGIN:VEVENT
UID:sabre-vobject-76550b6d-0195-427a-a108-d2dadf878da2
DTSTAMP:20260425T105816Z
SUMMARY:Konzert mit dem Wittelsbacher Land Chor
DESCRIPTION:https://www2.bistum-augsburg.de/gottesdienste/konzert-mit-dem-w
 ittelsbacher-land-chor_id1730326
DTSTART;TZID=Europe/Berlin:20260516T193000
DURATION:PT30M
LOCATION:St. Leonhard
END:VEVENT
END:VCALENDAR
