BEGIN:VCALENDAR
VERSION:2.0
PRODID:-//Sabre//Sabre VObject 4.5.8//EN
CALSCALE:GREGORIAN
BEGIN:VEVENT
UID:sabre-vobject-c378c938-38b2-4cee-ac3a-4c2a52ec8a2d
DTSTAMP:20260425T210042Z
SUMMARY:Rosenkranz mit Beichtgelegenheit
DESCRIPTION:https://www2.bistum-augsburg.de/gottesdienste/rosenkranz-mit-be
 ichtgelegenheit_id1730333
DTSTART;TZID=Europe/Berlin:20260425T180000
DURATION:PT30M
LOCATION:St. Blasius
END:VEVENT
END:VCALENDAR
