BEGIN:VCALENDAR
VERSION:2.0
PRODID:-//Sabre//Sabre VObject 4.5.8//EN
CALSCALE:GREGORIAN
BEGIN:VEVENT
UID:sabre-vobject-baafe258-ed42-4670-baca-782764fee6b6
DTSTAMP:20260425T152928Z
SUMMARY:Dankgottesdienst der Erstkommunionkinder aller Pfarreien\nSegnung d
 er Gegenstände\nÜberraschung für die Mutti´s ??
DESCRIPTION:https://www2.bistum-augsburg.de/gottesdienste/dankgottesdienst-
 der-erstkommunionkinder-aller-pfarreien-segnung-der-gegenstaende-ueberrasc
 hung-fuer-die-mutti-s_id1730337
DTSTART;TZID=Europe/Berlin:20260510T100000
DURATION:PT30M
LOCATION:St. Michael
END:VEVENT
END:VCALENDAR
