BEGIN:VCALENDAR
VERSION:2.0
PRODID:-//Sabre//Sabre VObject 4.5.8//EN
CALSCALE:GREGORIAN
BEGIN:VEVENT
UID:sabre-vobject-f0d06323-7251-4233-9cde-dd0596c9c8c4
DTSTAMP:20260424T180937Z
SUMMARY:Sühneabend: Rosenkranz\, Beichtgelegenheit\, Hl. Messe m. Predigt\
 , Segnung d. Andachtsgegenstände
DESCRIPTION:https://www2.bistum-augsburg.de/gottesdienste/suehneabend-rosen
 kranz-beichtgelegenheit-hl-messe-m-predigt-segnung-d-andachtsgegenstaende_
 id1730340
DTSTART;TZID=Europe/Berlin:20260428T190000
DURATION:PT30M
LOCATION:Mariä Opferung\, Baumgärtle 4\, 87739 Baumgärtle
END:VEVENT
END:VCALENDAR
