BEGIN:VCALENDAR
VERSION:2.0
PRODID:-//Sabre//Sabre VObject 4.5.8//EN
CALSCALE:GREGORIAN
BEGIN:VEVENT
UID:sabre-vobject-bf23ce68-26ac-4b12-98eb-770d823ee34a
DTSTAMP:20260423T191135Z
SUMMARY:Wallfahrtsmesse m. Krankengebet
DESCRIPTION:https://www2.bistum-augsburg.de/gottesdienste/wallfahrtsmesse-m
 -krankengebet_id1730343
DTSTART;TZID=Europe/Berlin:20260429T093000
DURATION:PT30M
LOCATION:Mariä Opferung\, Baumgärtle 4\, 87739 Baumgärtle
END:VEVENT
END:VCALENDAR
