BEGIN:VCALENDAR
VERSION:2.0
PRODID:-//Sabre//Sabre VObject 4.5.8//EN
CALSCALE:GREGORIAN
BEGIN:VEVENT
UID:sabre-vobject-44d3fdd5-0caa-4929-b2e3-61ccf6ab47fc
DTSTAMP:20260424T074849Z
SUMMARY:Hl. Messe im Altenheim
DESCRIPTION:https://www2.bistum-augsburg.de/gottesdienste/hl-messe-im-alten
 heim_id1730356
DTSTART;TZID=Europe/Berlin:20260508T153000
DURATION:PT30M
LOCATION:Mariä Himmelfahrt
END:VEVENT
END:VCALENDAR
