BEGIN:VCALENDAR
VERSION:2.0
PRODID:-//Sabre//Sabre VObject 4.5.8//EN
CALSCALE:GREGORIAN
BEGIN:VEVENT
UID:sabre-vobject-14488c0e-3e32-4f14-8768-5a2aefe40477
DTSTAMP:20260425T112201Z
SUMMARY:Hl. Messe
DESCRIPTION:https://www2.bistum-augsburg.de/gottesdienste/hl-messe_id173036
 9
DTSTART;TZID=Europe/Berlin:20260518T181000
DURATION:PT30M
LOCATION:Herz Mariä
END:VEVENT
END:VCALENDAR
