BEGIN:VCALENDAR
VERSION:2.0
PRODID:-//Sabre//Sabre VObject 4.5.8//EN
CALSCALE:GREGORIAN
BEGIN:VEVENT
UID:sabre-vobject-68ed10d4-d3ee-44a9-9702-c322b3454c5d
DTSTAMP:20260424T210528Z
SUMMARY:Rosenkranz
DESCRIPTION:https://www2.bistum-augsburg.de/gottesdienste/rosenkranz_id1730
 371
DTSTART;TZID=Europe/Berlin:20260519T182500
DURATION:PT30M
LOCATION:Herz Mariä
END:VEVENT
END:VCALENDAR
