BEGIN:VCALENDAR
VERSION:2.0
PRODID:-//Sabre//Sabre VObject 4.5.8//EN
CALSCALE:GREGORIAN
BEGIN:VEVENT
UID:sabre-vobject-b733c265-82ce-46bf-b182-206072b774c5
DTSTAMP:20260424T200752Z
SUMMARY:Festgottesdienst\, musik. Gestaltung Kirchenchor
DESCRIPTION:https://www2.bistum-augsburg.de/gottesdienste/festgottesdienst-
 musik-gestaltung-kirchenchor_id1730381
DTSTART;TZID=Europe/Berlin:20260524T100000
DURATION:PT30M
LOCATION:Herz Mariä
END:VEVENT
END:VCALENDAR
