BEGIN:VCALENDAR
VERSION:2.0
PRODID:-//Sabre//Sabre VObject 4.5.8//EN
CALSCALE:GREGORIAN
BEGIN:VEVENT
UID:sabre-vobject-f0ba2ba9-6bbc-4d77-a6f4-a95b2fce2f94
DTSTAMP:20260426T031717Z
SUMMARY:Festgottesdienst
DESCRIPTION:https://www2.bistum-augsburg.de/gottesdienste/festgottesdienst_
 id1730383
DTSTART;TZID=Europe/Berlin:20260525T100000
DURATION:PT30M
LOCATION:Herz Mariä
END:VEVENT
END:VCALENDAR
