BEGIN:VCALENDAR
VERSION:2.0
PRODID:-//Sabre//Sabre VObject 4.5.8//EN
CALSCALE:GREGORIAN
BEGIN:VEVENT
UID:sabre-vobject-6e2c0dfd-a06e-4881-b3c6-6cc575ed231b
DTSTAMP:20260424T161823Z
SUMMARY:Flurumgang zum Feldkreuz am Radweg
DESCRIPTION:https://www2.bistum-augsburg.de/gottesdienste/flurumgang-zum-fe
 ldkreuz-am-radweg_id1730391
DTSTART;TZID=Europe/Berlin:20260525T081500
DURATION:PT30M
LOCATION:St. Nikolaus\, Sankt-Nikolaus-Ring 4 a\, 82269 Hausen
END:VEVENT
END:VCALENDAR
