BEGIN:VCALENDAR
VERSION:2.0
PRODID:-//Sabre//Sabre VObject 4.5.8//EN
CALSCALE:GREGORIAN
BEGIN:VEVENT
UID:sabre-vobject-166d0d5f-0bac-4d2c-ba23-6a3e1bebdcfc
DTSTAMP:20260425T000017Z
SUMMARY:Vorabendmesse
DESCRIPTION:https://www2.bistum-augsburg.de/gottesdienste/vorabendmesse_id1
 730400
DTSTART;TZID=Europe/Berlin:20260509T183000
DURATION:PT30M
LOCATION:Mariä Himmelfahrt\, Kirchplatz 8\, 82269 Walleshausen
END:VEVENT
END:VCALENDAR
