BEGIN:VCALENDAR
VERSION:2.0
PRODID:-//Sabre//Sabre VObject 4.5.8//EN
CALSCALE:GREGORIAN
BEGIN:VEVENT
UID:sabre-vobject-e3f7cc00-d76f-451e-b7c9-5cc42f42107e
DTSTAMP:20260424T174158Z
SUMMARY:2. Firmtag mit Firmpaten\, GS Igling\, 9:30 - 12:00 Uhr
DESCRIPTION:https://www2.bistum-augsburg.de/gottesdienste/2-firmtag-mit-fir
 mpaten-gs-igling-9-30-12-00-uhr_id1730409
DTSTART;TZID=Europe/Berlin:20260425T000000
DURATION:PT30M
LOCATION:St. Peter und Paul
END:VEVENT
END:VCALENDAR
