BEGIN:VCALENDAR
VERSION:2.0
PRODID:-//Sabre//Sabre VObject 4.5.8//EN
CALSCALE:GREGORIAN
BEGIN:VEVENT
UID:sabre-vobject-93ba5d4e-4688-4f51-8cc8-d891d191ee70
DTSTAMP:20260424T064458Z
SUMMARY:Pfarrgottesdienst - Hl. M.
DESCRIPTION:https://www2.bistum-augsburg.de/gottesdienste/pfarrgottesdienst
 -hl-m_id1730436
DTSTART;TZID=Europe/Berlin:20260426T101500
DURATION:PT30M
LOCATION:St. Peter
END:VEVENT
END:VCALENDAR
