BEGIN:VCALENDAR
VERSION:2.0
PRODID:-//Sabre//Sabre VObject 4.5.8//EN
CALSCALE:GREGORIAN
BEGIN:VEVENT
UID:sabre-vobject-f34e3dfa-5d51-41df-bb41-5ee810beec7b
DTSTAMP:20260426T013126Z
SUMMARY:Mitarbeiterabend im Pfarr- und Jugendheim Zell
DESCRIPTION:https://www2.bistum-augsburg.de/gottesdienste/mitarbeiterabend-
 im-pfarr-und-jugendheim-zell_id1730460
DTSTART;TZID=Europe/Berlin:20260506T190000
DURATION:PT30M
LOCATION:St. Luzia
END:VEVENT
END:VCALENDAR
