BEGIN:VCALENDAR
VERSION:2.0
PRODID:-//Sabre//Sabre VObject 4.5.8//EN
CALSCALE:GREGORIAN
BEGIN:VEVENT
UID:sabre-vobject-c44139a0-6684-48b7-86e7-286d8b3c53cb
DTSTAMP:20260424T133855Z
SUMMARY:Vorabendmesse zum Hochfest mit Gebetsbitte für
DESCRIPTION:https://www2.bistum-augsburg.de/gottesdienste/vorabendmesse-zum
 -hochfest-mit-gebetsbitte-fuer_id1730466
DTSTART;TZID=Europe/Berlin:20260430T191500
DURATION:PT30M
LOCATION:St. Rupert
END:VEVENT
END:VCALENDAR
