BEGIN:VCALENDAR
VERSION:2.0
PRODID:-//Sabre//Sabre VObject 4.5.8//EN
CALSCALE:GREGORIAN
BEGIN:VEVENT
UID:sabre-vobject-eb1e78ef-8082-49d9-97c2-0b1593a72548
DTSTAMP:20260426T013152Z
SUMMARY:Pfarrgottesdienst
DESCRIPTION:https://www2.bistum-augsburg.de/gottesdienste/pfarrgottesdienst
 _id1730473
DTSTART;TZID=Europe/Berlin:20260510T084500
DURATION:PT30M
LOCATION:St. Rupert
END:VEVENT
END:VCALENDAR
