BEGIN:VCALENDAR
VERSION:2.0
PRODID:-//Sabre//Sabre VObject 4.5.8//EN
CALSCALE:GREGORIAN
BEGIN:VEVENT
UID:sabre-vobject-9329a431-7a43-4795-8e12-dfd94a8bb7f0
DTSTAMP:20260425T173642Z
SUMMARY:Vorabendmesse m. Verabschiedung d. ausscheid. Pfarrgemeinderäte
DESCRIPTION:https://www2.bistum-augsburg.de/gottesdienste/vorabendmesse-m-v
 erabschiedung-d-ausscheid-pfarrgemeinderaete_id1730483
DTSTART;TZID=Europe/Berlin:20260502T183000
DURATION:PT30M
LOCATION:Mariä Heimsuchung\, Kirchplatz 1\, 86854 Amberg
END:VEVENT
END:VCALENDAR
