BEGIN:VCALENDAR
VERSION:2.0
PRODID:-//Sabre//Sabre VObject 4.5.8//EN
CALSCALE:GREGORIAN
BEGIN:VEVENT
UID:sabre-vobject-b17cbd0a-e571-4565-a25b-3653abfa9afe
DTSTAMP:20260422T132336Z
SUMMARY:Maiandacht d. FB\, musik. gest. v. d. Stubenmusik
DESCRIPTION:https://www2.bistum-augsburg.de/gottesdienste/maiandacht-d-fb-m
 usik-gest-v-d-stubenmusik_id1730484
DTSTART;TZID=Europe/Berlin:20260503T190000
DURATION:PT30M
LOCATION:Mariä Heimsuchung\, Kirchplatz 1\, 86854 Amberg
END:VEVENT
END:VCALENDAR
