BEGIN:VCALENDAR
VERSION:2.0
PRODID:-//Sabre//Sabre VObject 4.5.8//EN
CALSCALE:GREGORIAN
BEGIN:VEVENT
UID:sabre-vobject-399d9c0a-8cbb-460c-867b-8024a45d9a01
DTSTAMP:20260425T020946Z
SUMMARY:Komm mit - Mach mit - Amberger Nachmittagskaffee  i. Pfarrheim
DESCRIPTION:https://www2.bistum-augsburg.de/gottesdienste/komm-mit-mach-mit
 -amberger-nachmittagskaffee-i-pfarrheim_id1730486
DTSTART;TZID=Europe/Berlin:20260505T140000
DURATION:PT30M
LOCATION:Mariä Heimsuchung\, Kirchplatz 1\, 86854 Amberg
END:VEVENT
END:VCALENDAR
