BEGIN:VCALENDAR
VERSION:2.0
PRODID:-//Sabre//Sabre VObject 4.5.8//EN
CALSCALE:GREGORIAN
BEGIN:VEVENT
UID:sabre-vobject-41c3679e-b9db-4e79-a841-450bf5a26360
DTSTAMP:20260424T051451Z
SUMMARY:Trauercafé im Pfarrheim
DESCRIPTION:https://www2.bistum-augsburg.de/gottesdienste/trauercafe-im-pfa
 rrheim_id1730494
DTSTART;TZID=Europe/Berlin:20260516T150000
DURATION:PT30M
LOCATION:Mariä Heimsuchung\, Kirchplatz 1\, 86854 Amberg
END:VEVENT
END:VCALENDAR
