BEGIN:VCALENDAR
VERSION:2.0
PRODID:-//Sabre//Sabre VObject 4.5.8//EN
CALSCALE:GREGORIAN
BEGIN:VEVENT
UID:sabre-vobject-d9a3a83e-6e14-4aa6-91e1-989fefc3b1f6
DTSTAMP:20260424T064320Z
SUMMARY:Gottesdienst
DESCRIPTION:https://www2.bistum-augsburg.de/gottesdienste/gottesdienst_id17
 30508
DTSTART;TZID=Europe/Berlin:20260426T100000
DURATION:PT30M
LOCATION:St. Johannes Baptist
END:VEVENT
END:VCALENDAR
