BEGIN:VCALENDAR
VERSION:2.0
PRODID:-//Sabre//Sabre VObject 4.5.8//EN
CALSCALE:GREGORIAN
BEGIN:VEVENT
UID:sabre-vobject-38737ede-c46e-44ae-bc52-2fc707f431b6
DTSTAMP:20260423T192432Z
SUMMARY:Hl. Messe
DESCRIPTION:https://www2.bistum-augsburg.de/gottesdienste/hl-messe_id173051
 5
DTSTART;TZID=Europe/Berlin:20260426T190000
DURATION:PT30M
LOCATION:St. Nikolaus\, Bodenseestraße 157\, 88138 Bösenreutin
END:VEVENT
END:VCALENDAR
