BEGIN:VCALENDAR
VERSION:2.0
PRODID:-//Sabre//Sabre VObject 4.5.8//EN
CALSCALE:GREGORIAN
BEGIN:VEVENT
UID:sabre-vobject-db5ca24c-d2fd-42da-8741-d975b6b282bb
DTSTAMP:20260423T212411Z
SUMMARY:Dankandacht für Erstkommunionkinder
DESCRIPTION:https://www2.bistum-augsburg.de/gottesdienste/dankandacht-fuer-
 erstkommunionkinder_id1730561
DTSTART;TZID=Europe/Berlin:20260503T190000
DURATION:PT30M
LOCATION:St. Georg
END:VEVENT
END:VCALENDAR
